BEGIN:VCALENDAR
VERSION:2.0
PRODID:-//ChamberMaster//Event Calendar 2.0//EN
METHOD:PUBLISH
X-PUBLISHED-TTL:P3D
REFRESH-INTERVAL:P3D
CALSCALE:GREGORIAN
BEGIN:VEVENT
DTSTART:20161110T170000Z
DTEND:20161110T180000Z
X-MICROSOFT-CDO-ALLDAYEVENT:FALSE
SUMMARY:Power Biz Hour sponsored by TD Bank: Facebook for Business
DESCRIPTION:p.p1 {margin: 0.0px 0.0px 0.0px 0.0px\; font: 14.0px Calibri\; -webkit-text-stroke: #000000}\nspan.s1 {font-kerning: none}\n\nFacebook is the largest social network out there\, and while it's not right for everyone to use as a marketing tool\, just about every business should be utilizing the site to connect with customers\, supporters and the community. In this Power Biz Hour\, Caitlin Thayer will walk you through the things you should be focusing on to grow support for your business on Facebook.\n\n \nLed by Caitlin Thayer:\n\nCaitlin Thayer is the owner of Barefoot Media\, a social media consulting company. Since 2009\, she has helped over 50 small businesses and nonprofits learn how to use social media for community building and marketing. After six years and countless hours of using social media\, she has learned that marketing through social media is an art form that takes practice and passion. Take a class with Caitlin and learn how you can be using social media more efficiently and effectively for your organization.
X-ALT-DESC;FMTTYPE=text/html:<style type="text/css">p.p1 {margin: 0.0px 0.0px 0.0px 0.0px\; font: 14.0px Calibri\; -webkit-text-stroke: #000000}\nspan.s1 {font-kerning: none}\n</style>\n<p class="p1"><span class="s1">Facebook is the largest social network out there\, and while it&#39\;s not right for everyone to use as a marketing tool\, just about every business should be utilizing the site to connect with customers\, supporters and the community. In this Power Biz Hour\, Caitlin Thayer will walk you through the things you should be focusing on to grow support for your business on Facebook.</span><br />\n&nbsp\;</p>\nLed by Caitlin Thayer:<br />\nCaitlin Thayer is the owner of Barefoot Media\, a social media consulting company. Since 2009\, she has helped over 50 small businesses and nonprofits learn how to use social media for community building and marketing. After six years and countless hours of using social media\, she has learned that marketing through social media is an art form that takes practice and passion. Take a class with Caitlin and learn how you can be using social media more efficiently and effectively for your organization.&nbsp\;
LOCATION:TD Bank 333 State Street Portsmouth\, NH
UID:e.1659.25914
SEQUENCE:3
DTSTAMP:20260421T213235Z
URL:https://business.portsmouthchamber.org/events/details/power-biz-hour-sponsored-by-td-bank-facebook-for-business-25914
END:VEVENT

END:VCALENDAR
