BEGIN:VCALENDAR
VERSION:2.0
PRODID:-//ChamberMaster//Event Calendar 2.0//EN
METHOD:PUBLISH
X-PUBLISHED-TTL:P3D
REFRESH-INTERVAL:P3D
CALSCALE:GREGORIAN
BEGIN:VEVENT
DTSTART:20161020T160000Z
DTEND:20161020T170000Z
X-MICROSOFT-CDO-ALLDAYEVENT:FALSE
SUMMARY:Power Biz Hour sponsored by TD Bank: Using Social Media to Attract Top Talent
DESCRIPTION:Social media is proving to become an important tool in attracting the right individuals to the right company. Learn more about utilizing the appropriate social media tools based on the type of person you are looking to hire. The presenter will also share tips on what prospective employees are looking at when they research your company. It is critical that your social media pages reflect both your company culture and work. \n\n\n\nPresenter Cara Suglia\, In House Recruiter\, TD Bank\n\nCara Suglia has been in the staffing and recruiting field since graduating from Saint Anselm College in 2011. Until joining TD Bank as a Corporate HR Recruiter in September\, Cara spent the last 5 years recruiting in the Information Technology space\, utilizing LinkedIn and other social media and recruiting tools extensively to draw in interest of top IT talent in the New England area.
X-ALT-DESC;FMTTYPE=text/html:Social media is proving to become an important tool in attracting the right individuals to the right company. Learn more about utilizing the appropriate social media tools based on the type of person you are looking to hire. The presenter will also share tips on what prospective employees are looking at when they research your company. It is critical that your social media pages reflect both your company culture and work.&nbsp\;<br />\n<br />\nPresenter Cara Suglia\, In House Recruiter\, TD Bank<br />\nCara Suglia has been in the staffing and recruiting field since graduating from Saint Anselm College in 2011. Until joining TD Bank as a Corporate HR Recruiter in September\, Cara spent the last 5 years recruiting in the Information Technology space\, utilizing LinkedIn and other social media and recruiting tools extensively to draw in interest of top IT talent in the New England area.
LOCATION:TD Bank 333 State Street Portsmouth NH 03801
UID:e.1659.25915
SEQUENCE:3
DTSTAMP:20260421T225729Z
URL:https://business.portsmouthchamber.org/events/details/power-biz-hour-sponsored-by-td-bank-using-social-media-to-attract-top-talent-25915
END:VEVENT

END:VCALENDAR
