BEGIN:VCALENDAR
VERSION:2.0
PRODID:-//ChamberMaster//Event Calendar 2.0//EN
METHOD:PUBLISH
X-PUBLISHED-TTL:P3D
REFRESH-INTERVAL:P3D
CALSCALE:GREGORIAN
BEGIN:VEVENT
DTSTART:20140910T160000Z
DTEND:20140910T170000Z
X-MICROSOFT-CDO-ALLDAYEVENT:FALSE
SUMMARY:Power Biz Hour - The Art of Public Speaking
DESCRIPTION:Dynamic Communication Skills for Success in Business and in Life\n\nSusan Hobbs\, CPBA\, CPVA\n\nSpeaker   Trainer   Consultant\n\n\n\nA communication skills expert\, Susan Hobbs inspires business leaders\, organizations\, and individuals to reshape and enhance their performance and achieve their very best. For more than 15 years she's been delivering informative\, engaging presentations and training to audiences of all sizes across the United States. Susan's programs both educate and entertain\, leaving participants energized and motivated.\n\n \n\n"The Art of Public Speaking"\n\n\n\nIf you're uncomfortable speaking in front of an audience (whether large or small)\, you are not alone. Unfortunately\, those butterflies could be holding you back\, because public speaking is part of everyday life.\n\n\n\nIn this engaging Power Hour\, communications skills expert Susan Hobbs will show you how to develop a presence and create connections with audiences of any size.\n\n\n\nLunch will be provided by Serenity Market & Cafe and dessert provided by Edible Arrangements! \n\n\n\n#powerbizhourNH - Members only!
X-ALT-DESC;FMTTYPE=text/html:<em>Dynamic Communication Skills&nbsp\;for Success in Business and in Life</em><br />\nSusan Hobbs\, CPBA\, CPVA<br />\nSpeaker &ndash\; Trainer &ndash\; Consultant<br />\n<br />\nA communication skills expert\, Susan Hobbs inspires business leaders\, organizations\, and individuals to reshape and enhance their performance and achieve their very best. For more than 15 years she&rsquo\;s been delivering informative\, engaging presentations and training to audiences of all sizes across the United States. Susan&rsquo\;s programs both educate and entertain\, leaving participants energized and motivated.<br />\n&nbsp\;<br />\n&ldquo\;The Art of Public Speaking&rdquo\;<br />\n<br />\nIf you&rsquo\;re uncomfortable speaking in front of an audience (whether large or small)\, you are not alone. Unfortunately\, those butterflies could be holding you back\, because public speaking is part of everyday life.<br />\n<br />\nIn this engaging Power Hour\, communications skills expert Susan Hobbs will show you how to develop a presence and create connections with audiences of any size.<br />\n<br />\n<em>Lunch will be provided by <a href="http://www.serenitycaferye.com/" target="_blank">Serenity Market &amp\; Cafe</a>&nbsp\;and dessert provided by <a href="http://www.ediblearrangements.com/" target="_blank">Edible Arrangements</a>!&nbsp\;</em><br />\n<br />\n<span style="color:black\;"><span style="font-family:calibri\,sans-serif\;"><span style="font-size:12.0pt\;">#powerbizhourNH - Members only!</span></span></span>
LOCATION:Oslo Room 1 New Hampshire Drive\, Suite 125
UID:e.1659.2947
SEQUENCE:3
DTSTAMP:20260419T162550Z
URL:https://business.portsmouthchamber.org/events/details/power-biz-hour-the-art-of-public-speaking-09-10-2014-2947
END:VEVENT

END:VCALENDAR
