BEGIN:VCALENDAR
VERSION:2.0
PRODID:-//ChamberMaster//Event Calendar 2.0//EN
METHOD:PUBLISH
X-PUBLISHED-TTL:P3D
REFRESH-INTERVAL:P3D
CALSCALE:GREGORIAN
BEGIN:VEVENT
DTSTART:20131113T140000Z
DTEND:20131113T170000Z
X-MICROSOFT-CDO-ALLDAYEVENT:FALSE
SUMMARY:Practical Considerations in Hiring
DESCRIPTION:Mark Broth of Drummond Woodsum' s Employment Law Group and Mona Movafaghi of Drummond Woodsum' s Immigration Practice Group will be hosting a seminar entitled Practical Considerations in Hiring\, including Hiring of Foreign Nationals and I-9/E-Verify Issues. We will also offer a complimentary continental breakfast. We know this seminar will be useful both for the updates in hiring practices as well as the immigration implications of yet another wave of I-9 Audits. The following topics will be covered during the morning presentation: Employee Handbooks\, Employment Contracts\, Independent Contactors\, Non-compete and Non-disclosure Agreements\, Hiring of Foreign Nationals\, New I-9 Forms and New Enforcement Program\, Routine I-9 Form Maintenance\, and To E-Verify or Not to E-Verify. Attorneys Laurel McClead and Christina Simpson will also be in attendance. We hope you can join us!Please RSVP to vporrazzo@dwmlaw.com
X-ALT-DESC;FMTTYPE=text/html:Mark Broth of Drummond Woodsum&#39\; s Employment Law Group and Mona Movafaghi of Drummond Woodsum&#39\; s Immigration Practice Group will be hosting a seminar entitled Practical Considerations in Hiring\, including Hiring of Foreign Nationals and I-9/E-Verify Issues. We will also offer a complimentary continental breakfast. We know this seminar will be useful both for the updates in hiring practices as well as the immigration implications of yet another wave of I-9 Audits. The following topics will be covered during the morning presentation: Employee Handbooks\, Employment Contracts\, Independent Contactors\, Non-compete and Non-disclosure Agreements\, Hiring of Foreign Nationals\, New I-9 Forms and New Enforcement Program\, Routine I-9 Form Maintenance\, and To E-Verify or Not to E-Verify. Attorneys Laurel McClead and Christina Simpson will also be in attendance. We hope you can join us!Please RSVP to vporrazzo@dwmlaw.com 
LOCATION:SERESC Center\, 29 Commerce Drive\, Bedford\, NH
UID:e.1659.733
SEQUENCE:3
DTSTAMP:20260420T054359Z
URL:https://business.portsmouthchamber.org/events/details/practical-considerations-in-hiring-11-13-2013-733
END:VEVENT

END:VCALENDAR
