BEGIN:VCALENDAR
VERSION:2.0
PRODID:-//ChamberMaster//Event Calendar 2.0//EN
METHOD:PUBLISH
X-PUBLISHED-TTL:P3D
REFRESH-INTERVAL:P3D
CALSCALE:GREGORIAN
BEGIN:VEVENT
DTSTART:20161210T000000Z
DTEND:20161210T020000Z
X-MICROSOFT-CDO-ALLDAYEVENT:FALSE
SUMMARY:Prescott Park Arts Festival Presents: A Christmas Carol
DESCRIPTION:Join the excitement this holiday season as Prescott Park Arts Festival presents their first winter full production offering of A Christmas Carol in Exeter's Historic Town Hall.\n\n\n\nBased on the beloved tale written by Charles Dickens\, F. Gary Newton's adaptation of A Christmas Carol tells the story of a bitter\, old\, penny pinching miser named Ebenezer Scrooge and his transformation into a gentler\, kinder man after being visited by the ghost of his former business partner and the Ghosts of Christmas Past\, Present\, and Yet to Come.\n\n\n\nThe show has been touted as one that "invites young and old alike to understand the world around them\, making Dickens' message of redemption stronger and even more pertinent to all of us today."\n\n\n\nThe historic Town Hall theatre in Exeter offers a beautiful  space for a performance\, including balcony seating. Special VIP tickets are available and located in the first few front rows\, and include a drink ticket.
X-ALT-DESC;FMTTYPE=text/html:Join the excitement this holiday season as Prescott Park Arts Festival presents their first winter full production offering of A Christmas Carol in Exeter&#39\;s Historic Town Hall.<br />\n<br />\nBased on the beloved tale written by Charles Dickens\, F. Gary Newton&#39\;s adaptation of A Christmas Carol tells the story of a bitter\, old\, penny pinching miser named Ebenezer Scrooge and his transformation into a gentler\, kinder man after being visited by the ghost of his former business partner and the Ghosts of Christmas Past\, Present\, and Yet to Come.<br />\n<br />\nThe show has been touted as one that &quot\;invites young and old alike to understand the world around them\, making Dickens&#39\; message of redemption stronger and even more pertinent to all of us today.&quot\;<br />\n<br />\nThe historic Town Hall theatre in Exeter offers a beautiful &nbsp\;space for a performance\, including balcony seating. Special VIP tickets are available and located in the first few front rows\, and include a drink ticket.
LOCATION:The historic Town Hall is located at 9 Front Street\, Exeter\, NH. Street and municipal parking is free.
UID:e.1659.27973
SEQUENCE:3
DTSTAMP:20260421T213433Z
URL:https://business.portsmouthchamber.org/events/details/prescott-park-arts-festival-presents-a-christmas-carol-27973
END:VEVENT

END:VCALENDAR
