BEGIN:VCALENDAR
VERSION:2.0
PRODID:-//ChamberMaster//Event Calendar 2.0//EN
METHOD:PUBLISH
X-PUBLISHED-TTL:P3D
REFRESH-INTERVAL:P3D
CALSCALE:GREGORIAN
BEGIN:VEVENT
DTSTART;VALUE=DATE:20170630
DTEND;VALUE=DATE:20170701
TRANSP:TRANSPARENT
X-MICROSOFT-CDO-ALLDAYEVENT:TRUE
SUMMARY:Prescott Park Arts Festival presents: Aimee Mann
DESCRIPTION:As a musician\, Aimee Mann has long indulged her bleaker side\, dating all the way back to her mid-'80s debut as the lead singer of 'Til Tuesday. In the quarter-century since she launched her solo career\, Mann has released nine solo albums   not counting her classic film work in 1999's Magnolia   and formed a duo called The Both with Ted Leo.\n\n\n\nHer superb latest release\, boldly called Mental Illness\, is unlike anything else and comes with a deep honesty within the songs\, and well worth a listen (thank us later).\n\n\n\nThis Oscar-nominated\, Grammy-winning singer has grown a loyal following under the assumption she's a melancholic custodian of metaphors and self-exploration\, but a close listen to Mental Illness' single\, Goose Snow Cone\, reveals much more   including her sense of humor and daring spirit that burns bright on the album as a whole.\n\n\n\nDon't miss the debut Prescott Park performance by this incredible American rock singer-songwriter.\n\n\n\nAimee is joined by special guest Jonathan Coulton   a Brooklyn-based indie musician and former computer programmer best known for his songs about geek culture.
X-ALT-DESC;FMTTYPE=text/html:As a musician\, Aimee Mann has long indulged her bleaker side\, dating all the way back to her mid-&lsquo\;80s debut as the lead singer of &lsquo\;Til Tuesday. In the quarter-century since she launched her solo career\, Mann has released nine solo albums &ndash\; not counting her classic film work in 1999&rsquo\;s Magnolia &ndash\; and formed a duo called The Both with Ted Leo.<br />\n<br />\nHer superb latest release\, boldly called Mental Illness\, is unlike anything else and comes with a deep honesty within the songs\, and well worth a listen (thank us later).<br />\n<br />\nThis Oscar-nominated\, Grammy-winning singer has grown a loyal following under the assumption she&rsquo\;s a melancholic custodian of metaphors and self-exploration\, but a close listen to Mental Illness&rsquo\; single\, Goose Snow Cone\, reveals much more &ndash\; including her sense of humor and daring spirit that burns bright on the album as a whole.<br />\n<br />\nDon&rsquo\;t miss the debut Prescott Park performance by this incredible American rock singer-songwriter.<br />\n<br />\nAimee is joined by special guest Jonathan Coulton &ndash\; a Brooklyn-based indie musician and former computer programmer best known for his songs about geek culture.
LOCATION:Prescott Park\, Portsmouth
UID:e.1659.31817
SEQUENCE:3
DTSTAMP:20260419T135350Z
URL:https://business.portsmouthchamber.org/events/details/prescott-park-arts-festival-presents-aimee-mann-31817
END:VEVENT

END:VCALENDAR
