BEGIN:VCALENDAR
VERSION:2.0
PRODID:-//ChamberMaster//Event Calendar 2.0//EN
METHOD:PUBLISH
X-PUBLISHED-TTL:P3D
REFRESH-INTERVAL:P3D
CALSCALE:GREGORIAN
BEGIN:VEVENT
DTSTART;VALUE=DATE:20170628
DTEND;VALUE=DATE:20170629
TRANSP:TRANSPARENT
X-MICROSOFT-CDO-ALLDAYEVENT:TRUE
SUMMARY:Prescott Park Arts Festival presents: Iron & Wine
DESCRIPTION:The seminal indie-folk act makes his debut performance in Prescott Park as one of only two shows in the east this summer! \n\n\n\n Sam Beam didn't become his critically-acclaimed alter ego\, Iron & Wine (originating from a dietary supplement named "Beef Iron & Wine" found in a general store while shooting a film)\, until his late 20s\, at which point he switched his career as a cinema professor for a career as a cinematic musician. \n\n\n\n Iron & Wine became the "first indie music crush" for many listeners with his debut release in 2002   and over the course of seven full-length released and must-listen collaborations with Band of Horses' Ben Bridwell\, Calexico\, and Rhiannon Giddens. Beam has cemented Iron & Wine as a purveyor of bittersweet lullabies and neo-folk hums. \n\n\n\n Iron & Wine's latest release is Love Letter For Fire\, an album of duets with fellow singer-songwriter Jesca Hoop\, out now on Sub Pop Records.
X-ALT-DESC;FMTTYPE=text/html:The seminal indie-folk act makes his debut performance in Prescott Park as one of only two shows in the east this summer!&nbsp\;<br />\n<br />\n&nbsp\;Sam Beam didn&rsquo\;t become his critically-acclaimed alter ego\, Iron &amp\; Wine (originating from a dietary supplement named &ldquo\;Beef Iron &amp\; Wine&rdquo\; found in a general store while shooting a film)\, until his late 20s\, at which point he switched his career as a cinema professor for a career as a cinematic musician.&nbsp\;<br />\n<br />\n&nbsp\;Iron &amp\; Wine became the &ldquo\;first indie music crush&rdquo\; for many listeners with his debut release in 2002 &ndash\; and over the course of seven full-length released and must-listen collaborations with Band of Horses&rsquo\; Ben Bridwell\, Calexico\, and Rhiannon Giddens. Beam has cemented Iron &amp\; Wine as a purveyor of bittersweet lullabies and neo-folk hums.&nbsp\;<br />\n<br />\n&nbsp\;Iron &amp\; Wine&rsquo\;s latest release is Love Letter For Fire\, an album of duets with fellow singer-songwriter Jesca Hoop\, out now on Sub Pop Records.&nbsp\;
LOCATION:Prescott Park\, Portsmouth
UID:e.1659.31816
SEQUENCE:3
DTSTAMP:20260419T120844Z
URL:https://business.portsmouthchamber.org/events/details/prescott-park-arts-festival-presents-iron-wine-31816
END:VEVENT

END:VCALENDAR
