BEGIN:VCALENDAR
VERSION:2.0
PRODID:-//ChamberMaster//Event Calendar 2.0//EN
METHOD:PUBLISH
X-PUBLISHED-TTL:P3D
REFRESH-INTERVAL:P3D
CALSCALE:GREGORIAN
BEGIN:VEVENT
DTSTART:20141011T153000Z
DTEND:20141012T020000Z
X-MICROSOFT-CDO-ALLDAYEVENT:FALSE
SUMMARY:Prescott Park Chili Cook-Off and NH Fall Festival
DESCRIPTION:The WHEB Chili-Cook off present's more than a dozen restaurants from the Seacoast and beyond\, who serve up their best chili in decorated booths for thousands of attendees to sample. 11:30- 'til the Chili is gone
X-ALT-DESC;FMTTYPE=text/html:<span style="font-size: 12pt\; background: white\;">The WHEB Chili-Cook off present&rsquo\;s more than a dozen restaurants from the Seacoast and beyond\, who serve up their best chili in decorated booths for thousands of attendees to sample. 11:30- &lsquo\;til the Chili is gone</span>
LOCATION:Saturday October 11 at 11:30AM 'til the chili is gone! Strawberry Banke's Puddle Dock.
UID:e.1659.2146
SEQUENCE:3
DTSTAMP:20260419T144756Z
URL:https://business.portsmouthchamber.org/events/details/prescott-park-chili-cook-off-and-nh-fall-festival-10-11-2014-2146
END:VEVENT

END:VCALENDAR
