BEGIN:VCALENDAR
VERSION:2.0
PRODID:-//ChamberMaster//Event Calendar 2.0//EN
METHOD:PUBLISH
X-PUBLISHED-TTL:P3D
REFRESH-INTERVAL:P3D
CALSCALE:GREGORIAN
BEGIN:VEVENT
DTSTART:20170507T160000Z
DTEND:20170507T200000Z
X-MICROSOFT-CDO-ALLDAYEVENT:FALSE
SUMMARY:Pro Portsmouth's Children's Day
DESCRIPTION:Who says children aren't in charge? Each year on the first Sunday of May\, Downtown Portsmouth becomes headquarters for children of all ages with the celebration of Children's Day. An estimated 10\,000+ "children" visit Portsmouth to take part in an afternoon of fun on the Seacoast.\n\n\n\nThis Festival combines family-friendly activities\, entertainment and usually\, an ice cream sundae   all sponsored\, hosted and supported by the Downtown Merchants\, area companies\, civic organizations and volunteers of the Seacoast. From a Hoola Hoop Contest to a "photo   op" with a favorite friend from Character Island\, the day is filled with something for everyone.\n\n\n\nHow does it work? Pro Portsmouth creates a map and kids of all ages follow the alphabet 'round town. From A to Z\, they can visit shops and restaurants\, head to the Block Party on Pleasant and enjoy all sorts of fun activities and entertainment.
X-ALT-DESC;FMTTYPE=text/html:Who says children aren&#39\;t in charge? Each year on the first Sunday of May\, Downtown Portsmouth becomes headquarters for children of all ages with the celebration of Children&#39\;s Day. An estimated 10\,000+ &quot\;children&quot\; visit Portsmouth to take part in an afternoon of fun on the Seacoast.<br />\n<br />\nThis Festival combines family-friendly activities\, entertainment and usually\, an ice cream sundae &ndash\; all sponsored\, hosted and supported by the Downtown Merchants\, area companies\, civic organizations and volunteers of the Seacoast. From a Hoola Hoop Contest to a &quot\;photo &ndash\; op&quot\; with a favorite friend from Character Island\, the day is filled with something for everyone.<br />\n<br />\nHow does it work? Pro Portsmouth creates a map and kids of all ages follow the alphabet &#39\;round town. From A to Z\, they can visit shops and restaurants\, head to the Block Party on Pleasant and enjoy all sorts of fun activities and entertainment.
LOCATION:Pleasant Street\, Portsmouth (Block Party location)
UID:e.1659.28174
SEQUENCE:3
DTSTAMP:20260421T121150Z
URL:https://business.portsmouthchamber.org/events/details/pro-portsmouth-s-children-s-day-28174
END:VEVENT

END:VCALENDAR
