BEGIN:VCALENDAR
VERSION:2.0
PRODID:-//ChamberMaster//Event Calendar 2.0//EN
METHOD:PUBLISH
X-PUBLISHED-TTL:P3D
REFRESH-INTERVAL:P3D
CALSCALE:GREGORIAN
BEGIN:VEVENT
DTSTART:20170610T130000Z
DTEND:20170610T200000Z
X-MICROSOFT-CDO-ALLDAYEVENT:FALSE
SUMMARY:Pro Portsmouth's Market Square Day
DESCRIPTION:Created to celebrate the renovation and beautification of Downtown Portsmouth and\, in particular\, Market Square\, the Festival has grown in size along with the growth and popularity of Portsmouth. It is estimated that between 60\,000 - 80\,000 people walk through Downtown Portsmouth on that one day enjoying the entertainment\, products and food offered by artists\, cratfters and merchants - many from the Seacoast area.\n\n\n\nOn average\, 150+ vendor applications are approved/accepted for inclusion in the festival. Three performance stages feature local and regional musicians. The day 'kicks off' with the Market Square Day 10K Road Race. Most of Downtown Portsmouth is vehicle-free and pedestrian-friendly from 9am 'til 4pm on the second Saturday in June each year.\n\n\n\nThe first Market Square Day took place in 1978\; Pro Portsmouth marks its' anniversary each year on Market Square Day.
X-ALT-DESC;FMTTYPE=text/html:Created to celebrate the renovation and beautification of Downtown Portsmouth and\, in particular\, Market Square\, the Festival has grown in size along with the growth and popularity of Portsmouth. It is estimated that between 60\,000 - 80\,000 people walk through Downtown Portsmouth on that one day enjoying the entertainment\, products and food offered by artists\, cratfters and merchants - many from the Seacoast area.<br />\n<br />\nOn average\, 150+ vendor applications are approved/accepted for inclusion in the festival. Three performance stages feature local and regional musicians. The day &#39\;kicks off&#39\; with the Market Square Day 10K Road Race. Most of Downtown Portsmouth is vehicle-free and pedestrian-friendly from 9am &#39\;til 4pm on the second Saturday in June each year.<br />\n<br />\nThe first Market Square Day took place in 1978\; Pro Portsmouth marks its&#39\; anniversary each year on Market Square Day.
LOCATION:
UID:e.1659.28175
SEQUENCE:3
DTSTAMP:20260419T134902Z
URL:https://business.portsmouthchamber.org/events/details/pro-portsmouth-s-market-square-day-28175
END:VEVENT

END:VCALENDAR
