BEGIN:VCALENDAR
VERSION:2.0
PRODID:-//ChamberMaster//Event Calendar 2.0//EN
METHOD:PUBLISH
X-PUBLISHED-TTL:P3D
REFRESH-INTERVAL:P3D
CALSCALE:GREGORIAN
BEGIN:VEVENT
DTSTART:20160331T000000Z
DTEND:20160331T020000Z
X-MICROSOFT-CDO-ALLDAYEVENT:FALSE
SUMMARY:Pure Bathing Culture
DESCRIPTION:To hear Sarah Versprille and Daniel Hindman tell it\, their Portland\, OR-based band Pure Bathing Culture has always evolved naturally and at a steady pace. "That's really the path we've been on as a band\, always putting one foot in front of the other as opportunities presented themselves\," Versprille said. "The music just revealed itself to us as we kept going."\n\n\n\nBut for Pure Bathing Culture's second album\, Pray for Rain\, the band has taken a big leap forward. You can hear it from the opening notes of their anthemic title track: in Hindman's clean yet serpentine guitar lines interacting with the live rhythm section and Versprille's lucid vocals cutting through it all as she asks: "Is it pleasure? Is it pain? Did you pray for rain?" Pray for Rain is the sound of the group confidently taking a step up to the next level and finding their footing as a true band.
X-ALT-DESC;FMTTYPE=text/html:To hear Sarah Versprille and Daniel Hindman tell it\, their Portland\, OR-based band&nbsp\;Pure Bathing Culture&nbsp\;has always evolved naturally and at a steady pace. &quot\;That&#39\;s really the path we&#39\;ve been on as a band\, always putting one foot in front of the other as opportunities presented themselves\,&quot\; Versprille said. &quot\;The music just revealed itself to us as we kept going.&quot\;<br />\n<br />\nBut for Pure Bathing Culture&#39\;s second album\, Pray for Rain\, the band has taken a big leap forward. You can hear it from the opening notes of their anthemic title track: in Hindman&#39\;s clean yet serpentine guitar lines interacting with the live rhythm section and Versprille&#39\;s lucid vocals cutting through it all as she asks: &quot\;Is it pleasure? Is it pain? Did you pray for rain?&quot\; Pray for Rain is the sound of the group confidently taking a step up to the next level and finding their footing as a true band.
LOCATION:3S Artspace 319 Vaughan Street\, Portsmouth
UID:e.1659.17905
SEQUENCE:3
DTSTAMP:20260420T145735Z
URL:https://business.portsmouthchamber.org/events/details/pure-bathing-culture-03-30-2016-17905
END:VEVENT

END:VCALENDAR
