BEGIN:VCALENDAR
VERSION:2.0
PRODID:-//ChamberMaster//Event Calendar 2.0//EN
METHOD:PUBLISH
X-PUBLISHED-TTL:P3D
REFRESH-INTERVAL:P3D
CALSCALE:GREGORIAN
BEGIN:VEVENT
DTSTART:20161211T000000Z
DTEND:20161211T030000Z
X-MICROSOFT-CDO-ALLDAYEVENT:FALSE
SUMMARY:Red Hook Brewery host the Seacoast Santa of NH's Jam
DESCRIPTION:An amazing night of great music and silent auctions\n\nThere will be an "Ugly Holiday Sweater" contest again this year. First place will go home with a nice prize...\n\n\n\nThree amazing local bands donating their time for this event. \n\n\n\n$10 per person\n\nTickets may be purchased online or at the door. All money raised from this event allows Seacoast Santa keep the magic alive for struggling seacoast families "little-believers".\n\n\n\nLight appetizers and a cash bar will be provided for your beverages.
X-ALT-DESC;FMTTYPE=text/html:An amazing night of great music and silent auctions<br />\nThere will be an &quot\;Ugly Holiday Sweater&quot\; contest again this year. First place will go home with a nice prize...<br />\n<br />\nThree amazing local bands donating their time for this event.&nbsp\;<br />\n<br />\n$10 per person<br />\nTickets may be purchased online or at the door. All money raised from this event allows Seacoast Santa keep the magic alive for struggling seacoast families &quot\;little-believers&quot\;.<br />\n<br />\nLight appetizers and a cash bar will be provided for your beverages.<br />\n
LOCATION:Redhook Brewery and Pub 1 Redhook Way\, Pease Tradeport\, Portsmouth
UID:e.1659.28148
SEQUENCE:3
DTSTAMP:20260421T193241Z
URL:https://business.portsmouthchamber.org/events/details/red-hook-brewery-host-the-seacoast-santa-of-nh-s-jam-28148
END:VEVENT

END:VCALENDAR
