BEGIN:VCALENDAR
VERSION:2.0
PRODID:-//ChamberMaster//Event Calendar 2.0//EN
METHOD:PUBLISH
X-PUBLISHED-TTL:P3D
REFRESH-INTERVAL:P3D
CALSCALE:GREGORIAN
BEGIN:VEVENT
DTSTART:20170303T220000Z
DTEND:20170304T010000Z
X-MICROSOFT-CDO-ALLDAYEVENT:FALSE
SUMMARY:Redhook Brewery Firkin Friday
DESCRIPTION:Special Firkin release\, small batch sampler tray specials\, raffles for firkin/sampler tray purchases and acoustic music by Fox & Fern.
X-ALT-DESC;FMTTYPE=text/html:Special Firkin release\, small batch sampler tray specials\, raffles for firkin/sampler tray purchases and acoustic music by Fox &amp\; Fern.&nbsp\;
LOCATION:Redhook Brewery 1 Redhook Way Portsmouth\, NH
UID:e.1659.30039
SEQUENCE:3
DTSTAMP:20260421T150651Z
URL:https://business.portsmouthchamber.org/events/details/redhook-brewery-firkin-friday-30039
END:VEVENT

END:VCALENDAR
