BEGIN:VCALENDAR
VERSION:2.0
PRODID:-//ChamberMaster//Event Calendar 2.0//EN
METHOD:PUBLISH
X-PUBLISHED-TTL:P3D
REFRESH-INTERVAL:P3D
CALSCALE:GREGORIAN
BEGIN:VEVENT
DTSTART:20170225T003000Z
DTEND:20170225T020000Z
X-MICROSOFT-CDO-ALLDAYEVENT:FALSE
SUMMARY:Redhoook Comedy Series Features April Macie
DESCRIPTION:Redhook comedy series staring April Macie\, from last comic standing & the Howard Stern Show.
X-ALT-DESC;FMTTYPE=text/html:Redhook comedy series staring April Macie\, from last comic standing &amp\; the Howard Stern Show.
LOCATION:Redhook Brewery 1 Redhook Way\, Portsmouth\, NH
UID:e.1659.29900
SEQUENCE:3
DTSTAMP:20260421T163529Z
URL:https://business.portsmouthchamber.org/events/details/redhoook-comedy-series-features-april-macie-29900
END:VEVENT

END:VCALENDAR
