BEGIN:VCALENDAR
VERSION:2.0
PRODID:-//ChamberMaster//Event Calendar 2.0//EN
METHOD:PUBLISH
X-PUBLISHED-TTL:P3D
REFRESH-INTERVAL:P3D
CALSCALE:GREGORIAN
BEGIN:VEVENT
DTSTART:20170407T233000Z
DTEND:20170408T020000Z
X-MICROSOFT-CDO-ALLDAYEVENT:FALSE
SUMMARY:Redhoook Comedy Series Features Chris Distefano
DESCRIPTION:Redhook Comedy Series staring Chris Distefano from MTV's Guy Code & Girl Code.
X-ALT-DESC;FMTTYPE=text/html:Redhook Comedy Series staring Chris Distefano from MTV&#39\;s Guy Code &amp\; Girl Code.
LOCATION:Redhook Brewery 1 Redhook Way\, Portsmouth\, NH
UID:e.1659.29901
SEQUENCE:3
DTSTAMP:20260421T131649Z
URL:https://business.portsmouthchamber.org/events/details/redhoook-comedy-series-features-chris-distefano-29901
END:VEVENT

END:VCALENDAR
