BEGIN:VCALENDAR
VERSION:2.0
PRODID:-//ChamberMaster//Event Calendar 2.0//EN
METHOD:PUBLISH
X-PUBLISHED-TTL:P3D
REFRESH-INTERVAL:P3D
CALSCALE:GREGORIAN
BEGIN:VEVENT
DTSTART:20140821T210000Z
DTEND:20140822T000000Z
X-MICROSOFT-CDO-ALLDAYEVENT:FALSE
SUMMARY:Reggae 'n Roses
DESCRIPTION:Tickets still available for the fun Reggae 'n Roses event at Fuller Gardens \n\n\n\nRead the Portsmouth Herald's story about the event.
X-ALT-DESC;FMTTYPE=text/html:<span style="font-size: 12px\;"><span style="font-family: arial\;"><span style="mso-fareast-font-family: &quot\;Times New Roman&quot\;\; mso-bidi-font-family: &quot\;Times New Roman&quot\;\; mso-ansi-language: EN-US\; mso-fareast-language: EN-US\; mso-bidi-language: AR-SA\;"><font color="#000000">Tickets still available </font><font color="#000000">for the fun </font><a href="http://cts.vresp.com/c/?YourCompanyName/1ff1652e7a/fa98b0ad77/e2b6380107" target="_blank" title="reggae 'n Roses"><font color="#0000ff">Reggae &#39\;n Roses</font></a><font color="#000000"> event </font><font color="#000000">at Fuller Gardens </font></span><br />\n<br />\n<span style="mso-fareast-font-family: Calibri\; mso-bidi-font-family: &quot\;Times New Roman&quot\;\; mso-ansi-language: EN-US\; mso-fareast-language: EN-US\; mso-bidi-language: AR-SA\; mso-fareast-theme-font: minor-latin\;"><font color="#000000">Read the </font><a href="http://cts.vresp.com/c/?YourCompanyName/1ff1652e7a/fa98b0ad77/3668211d4a" target="_blank" title="Reggae 'n Roses in the Portsmouth Herald"><font color="#0000ff">Portsmouth Herald&#39\;s</font></a><font color="#000000"> </font><font color="#000000">story about the event. </font></span></span></span><br />\n&nbsp\;
LOCATION:Fuller Gardens 10 Willow Avenue North Hampton\, NH
UID:e.1659.2948
SEQUENCE:3
DTSTAMP:20260419T173740Z
URL:https://business.portsmouthchamber.org/events/details/reggae-n-roses-08-21-2014-2948
END:VEVENT

END:VCALENDAR
