BEGIN:VCALENDAR
VERSION:2.0
PRODID:-//ChamberMaster//Event Calendar 2.0//EN
METHOD:PUBLISH
X-PUBLISHED-TTL:P3D
REFRESH-INTERVAL:P3D
CALSCALE:GREGORIAN
BEGIN:VEVENT
DTSTART:20140920T230000Z
DTEND:20140921T020000Z
X-MICROSOFT-CDO-ALLDAYEVENT:FALSE
SUMMARY:Relaunch of the Yellow Submarine
DESCRIPTION:Party-goers to this 21+ fundraising event will enjoy live music from The Spectras (their final appearance ever!)\, an array of appetizers\, dancing\, a signature cocktail\, cash bar & more!
X-ALT-DESC;FMTTYPE=text/html:<span style="font-size: 12pt\;"><font color="black" face="Verdana\,sans-serif" size="2"><span style="font-size: 10pt\;">Party-goers to this 21+ fundraising event will enjoy live music from </span></font><font color="black" face="Verdana\,sans-serif" size="2"><span style="font-size: 10pt\;"><b>The Spectras</b></span></font><font color="black" face="Verdana\,sans-serif" size="2"><span style="font-size: 10pt\;"> (their final appearance ever!)\, an array of appetizers\, dancing\, a signature cocktail\, cash bar &amp\; more!</span></font></span>
LOCATION:Children's Museum of New Hampshire\, 6 Washington Street\, Dover.
UID:e.1659.2810
SEQUENCE:3
DTSTAMP:20260419T162045Z
URL:https://business.portsmouthchamber.org/events/details/relaunch-of-the-yellow-submarine-09-20-2014-2810
END:VEVENT

END:VCALENDAR
