BEGIN:VCALENDAR
VERSION:2.0
PRODID:-//ChamberMaster//Event Calendar 2.0//EN
METHOD:PUBLISH
X-PUBLISHED-TTL:P3D
REFRESH-INTERVAL:P3D
CALSCALE:GREGORIAN
BEGIN:VEVENT
DTSTART:20151010T160000Z
DTEND:20151010T180000Z
X-MICROSOFT-CDO-ALLDAYEVENT:FALSE
SUMMARY:Rental Partners @ The Historic Theater New England Regional Yoga Championship
DESCRIPTION:Regional qualifier for the USA Yoga National Championship. Individuals from all over New England will demonstrate the grace and potential of the human body in men's\, women's\, senior's and youth divisions.
X-ALT-DESC;FMTTYPE=text/html:<span style="background-color:transparent\; color:rgb(0\, 0\, 0)\; font-family:arial\; font-size:14.6667px">Regional qualifier for the USA Yoga National Championship. Individuals from all over New England will demonstrate the grace and potential of the human body in men&rsquo\;s\, women&rsquo\;s\, senior&rsquo\;s and youth divisions.</span>
LOCATION:The Music Hall 28 Chestnut Street\, Portsmouth
UID:e.1659.12075
SEQUENCE:3
DTSTAMP:20260422T190840Z
URL:https://business.portsmouthchamber.org/events/details/rental-partners-the-historic-theater-new-england-regional-yoga-championship-10-10-2015-12075
END:VEVENT

END:VCALENDAR
