BEGIN:VCALENDAR
VERSION:2.0
PRODID:-//ChamberMaster//Event Calendar 2.0//EN
METHOD:PUBLISH
X-PUBLISHED-TTL:P3D
REFRESH-INTERVAL:P3D
CALSCALE:GREGORIAN
BEGIN:VEVENT
DTSTART;VALUE=DATE:20140426
DTEND;VALUE=DATE:20140427
TRANSP:TRANSPARENT
X-MICROSOFT-CDO-ALLDAYEVENT:TRUE
SUMMARY:Rescue Run (5k Trail Run/2 Mile Walk)
DESCRIPTION:Run Portsmouth\, underwritten by Portsmouth Regional Hospital\, is a succession of road races aimed at the cultivation of the health and well-being of the Greater Portsmouth Community.\n\n\n\nThe goal of the series is to attract individuals\, families\, and groups who enjoy participating in community events (not just competitive races).\n\n\n\nPortsmouth Community Road Race Series is a community event and is organized and brought forth by representatives of the following organizations:\n\n\n\nThe Greater Portsmouth Chamber of Commerce\n\nRotary Club of Portsmouth\n\nBreastCancerStories.org\n\nSeacoast Rotary Club\n\nSeacoast Science Center\n\nGreat Bay Services\n\nCommunity Childcare Center of Portsmouth\n\nSexual Assault Support Services \n\nPortsmouth High School
X-ALT-DESC;FMTTYPE=text/html:Run Portsmouth\, underwritten&nbsp\;by&nbsp\;Portsmouth&nbsp\;Regional&nbsp\;Hospital\, is a succession of road races aimed at the cultivation of the health and well-being of the Greater Portsmouth Community.<br />\n<br />\nThe goal of the series is to attract individuals\, families\, and groups who enjoy participating in community events (not just competitive races).<br />\n<br />\nPortsmouth Community Road Race Series is a community event and is organized and brought forth by representatives of the following organizations:<br />\n<br />\n<font size="2"><span style="font-size: 14px\; "><span style="font-family: arial\, helvetica\, sans-serif\; "><a href="http://www.portsmouthchamber.org/" target="_blank"><span style="color:#000000\;">The Greater Portsmouth Chamber of Commerce</span></a><br />\n<a href="http://www.portsmouthrotary.org/" target="_blank"><span style="color:#000000\;">Rotary Club of Portsmouth</span></a><br />\n<a href="http://www.breastcancerstories.org/" target="_blank"><span style="color:#000000\;">BreastCancerStories.org</span></a><br />\n<a href="http://www.seacoastrotary.org/" target="_blank"><span style="color:#000000\;">Seacoast Rotary Club</span></a><br />\n<a href="http://www.seacoastsciencecenter.org/" target="_blank"><span style="color:#000000\;">Seacoast Science Center</span></a><br />\n<a href="http://www.greatbayservices.org/" target="_blank"><span style="color:#000000\;">Great Bay Services</span></a><br />\n<a href="http://www.communitychildcarenh.org/" target="_blank"><span style="color:#000000\;">Community Childcare Center of Portsmouth</span></a></span></span></font><br />\n<span style="font-size: 14px\; "><span style="font-family: arial\, helvetica\, sans-serif\; "><a href="http://www.sassnh.org/"><span style="color:#000000\;">Sexual Assault Support Services&nbsp\;</span></a><br />\n<a href="http://www.cityofportsmouth.com/school/phs/"><span style="color:#000000\;">Portsmouth High School</span></a></span></span>
LOCATION:Seacoast Science Center 570 Ocean Blvd. Rye\, NH 03870
UID:e.1659.1159
SEQUENCE:3
DTSTAMP:20260419T231305Z
URL:https://business.portsmouthchamber.org/events/details/rescue-run-5k-trail-run-2-mile-walk-04-26-2014-1159
END:VEVENT

END:VCALENDAR
