BEGIN:VCALENDAR
VERSION:2.0
PRODID:-//ChamberMaster//Event Calendar 2.0//EN
METHOD:PUBLISH
X-PUBLISHED-TTL:P3D
REFRESH-INTERVAL:P3D
CALSCALE:GREGORIAN
BEGIN:VEVENT
DTSTART;VALUE=DATE:20140403
DTEND;VALUE=DATE:20140413
TRANSP:TRANSPARENT
X-MICROSOFT-CDO-ALLDAYEVENT:TRUE
SUMMARY:Restaurant Week Portsmouth & the Seacoast
DESCRIPTION:Restaurant Week is a bi-annual culinary event which spotlights the Seacoast area as a culinary destination with a vibrant arts and cultural scene\, and a wealth of historic attractions.
X-ALT-DESC;FMTTYPE=text/html:<span style="color:#800080\;"><span style="font-size:14px\;"><span style="font-family: 'lucida grande'\, tahoma\, verdana\, arial\, sans-serif\; line-height: 14px\;">Restaurant Week is a bi-annual culinary event which spotlights the Seacoast area as a culinary destination with a vibrant arts and cultural scene\, and a wealth of historic attractions.</span></span></span>
LOCATION:Agave Mexican Bistro Dos - Anneke Jans - BG's Boathouse - Black Trumpet Bistro - Blue Mermaid Island Grill - Blue Moon Evolution - Bonta Restaurant - Brazo Restaurant - British Beer Company - Budha O Asian Bistro - Caf Mediterraneo - Caf Nostimo - The Carriage House - Cava Tapas and Wine Bar - Cure Restaurant - Demeters Steakhouse - Dinnerhorn - The District - Dolphin Striker - Epoch Restaurant & Bar - Galley Hatch Restaurant - Grill 28 at Pease - Harbors Edge at Sheraton Harborside - Jumpin' Jay's Fish Caf - The Library Restaurant - Martingale Wharf - Mombo - Moxy American Tapas - The Oar House - Orchard Street Chop Shop - The Portsmouth Brewery - Portsmouth Gas Light Co. - Radici - Ri Ra - Ristorante Massimo - River House - The Rosa - Rudi's Portsmouth - Salt Kitchen & Bar at the Wentworth - Stage Neck Inn - Stages at One Washington - Tavola - Three Chimneys Inn - Tulsi Indian Restaurant - Vida Cantina - The Wellington Room
UID:e.1659.1446
SEQUENCE:3
DTSTAMP:20260419T231531Z
URL:https://business.portsmouthchamber.org/events/details/restaurant-week-portsmouth-the-seacoast-04-03-2014-1446
END:VEVENT

END:VCALENDAR
