BEGIN:VCALENDAR
VERSION:2.0
PRODID:-//ChamberMaster//Event Calendar 2.0//EN
METHOD:PUBLISH
X-PUBLISHED-TTL:P3D
REFRESH-INTERVAL:P3D
CALSCALE:GREGORIAN
BEGIN:VEVENT
DTSTART;VALUE=DATE:20131107
DTEND;VALUE=DATE:20131117
TRANSP:TRANSPARENT
X-MICROSOFT-CDO-ALLDAYEVENT:TRUE
SUMMARY:Restaurant Week Portsmouth & the Seacoast
DESCRIPTION:Restaurant Week is a bi-annual culinary event which spotlights the Seacoast area as a culinary destination with a vibrant arts and cultural scene\, and a wealth of historic attractions.
X-ALT-DESC;FMTTYPE=text/html:<span style="color: rgb(139\, 69\, 19)\;"><span style="font-size: 14px\;"><span style="line-height: 14px\; font-family: &quot\;lucida grande&quot\;\, tahoma\, verdana\, arial\, sans-serif\;">Restaurant Week is a bi-annual culinary event which spotlights the Seacoast area as a culinary destination with a vibrant arts and cultural scene\, and a wealth of historic attractions.</span></span></span>
LOCATION:Agave Mexican Bistro Dos - Anneke Jans - Black Trumpet Bistro - Blue Moon Evolution - Bonta Restaurant - Brazo Restaurant - British Beer Company - Caf Mediterraneo - Caf Nostimo - The Carriage House - Cava Tapas and Wine Bar - The Common Man - Demeters Steakhouse - Dinnerhorn - The District - Epoch Restaurant & Bar - Great American Grill - Grill 28 - Harbors Edge - Jumpin' Jay's Fish Caf - The Library Restaurant - LoMo -Martingale Wharf - Mixteca Taqueria Y Cantina - Mojo's BBQ Grille & Tavern - Mombo - Moxy - The Oar House - Orchard Street Chop Shop - The Portsmouth Brewery - Portsmouth Gas Light Co. - Radici - Ri Ra - Ristorante Massimo - River House - The Rosa - Rudi's Portsmouth - Salt Kitchen & Bar - Stage Neck Inn - Surf Restaurant - Surf Sushi Bar - Tavola - Three Chimneys Inn - Tulsi Indian Restaurant - Vida Cantina - The Wellington Room
UID:e.1659.743
SEQUENCE:3
DTSTAMP:20260420T060308Z
URL:https://business.portsmouthchamber.org/events/details/restaurant-week-portsmouth-the-seacoast-11-07-2013-743
END:VEVENT

END:VCALENDAR
