BEGIN:VCALENDAR
VERSION:2.0
PRODID:-//ChamberMaster//Event Calendar 2.0//EN
METHOD:PUBLISH
X-PUBLISHED-TTL:P3D
REFRESH-INTERVAL:P3D
CALSCALE:GREGORIAN
BEGIN:VEVENT
DTSTART:20161103T150000Z
DTEND:20161103T153000Z
X-MICROSOFT-CDO-ALLDAYEVENT:FALSE
SUMMARY:Ribbon Cutting Celtic Crossing
DESCRIPTION:
X-ALT-DESC;FMTTYPE=text/html:
LOCATION:Celtic Crossing 112 Congress Street Portsmouth\, NH 03801
UID:e.1659.27650
SEQUENCE:3
DTSTAMP:20260421T224922Z
URL:https://business.portsmouthchamber.org/events/details/ribbon-cutting-27650
END:VEVENT

END:VCALENDAR
