BEGIN:VCALENDAR
VERSION:2.0
PRODID:-//ChamberMaster//Event Calendar 2.0//EN
METHOD:PUBLISH
X-PUBLISHED-TTL:P3D
REFRESH-INTERVAL:P3D
CALSCALE:GREGORIAN
BEGIN:VEVENT
DTSTART:20161013T140000Z
DTEND:20161013T190000Z
X-MICROSOFT-CDO-ALLDAYEVENT:FALSE
SUMMARY:Ribbon Cutting and Open House Insurcomm
DESCRIPTION:Join us as we celebrate a new chapter in our company!  Start your morning with coffee and donuts or your afternoon with lunch.  There will be tours throughout the facility during the day as well as raffle drawings every hour.
X-ALT-DESC;FMTTYPE=text/html:<span style="color: rgb(33\, 33\, 33)\; font-family: wf_segoe-ui_normal\, 'Segoe UI'\, 'Segoe WP'\, Tahoma\, Arial\, sans-serif\; font-size: 15px\; background-color: rgb(255\, 255\, 255)\;">Join us as we celebrate a new chapter in our company! &nbsp\;Start your morning with coffee and donuts or your afternoon with lunch</span><span style="font-family: wf_segoe-ui_normal\, 'Segoe UI'\, 'Segoe WP'\, Tahoma\, Arial\, sans-serif\; font-size: 15px\; background-color: rgb(255\, 255\, 255)\;"><font color="#0078d7">.</font></span><span style="color: rgb(33\, 33\, 33)\; font-family: wf_segoe-ui_normal\, 'Segoe UI'\, 'Segoe WP'\, Tahoma\, Arial\, sans-serif\; font-size: 15px\; background-color: rgb(255\, 255\, 255)\;">&nbsp\; There will be tours throughout the facility during the day as well as raffle drawings every hour.</span>
LOCATION:290 Heritage Ave Portsmouth NH 03801
UID:e.1659.25916
SEQUENCE:3
DTSTAMP:20260421T225121Z
URL:https://business.portsmouthchamber.org/events/details/ribbon-cutting-and-open-house-insurcomm-25916
END:VEVENT

END:VCALENDAR
