BEGIN:VCALENDAR
VERSION:2.0
PRODID:-//ChamberMaster//Event Calendar 2.0//EN
METHOD:PUBLISH
X-PUBLISHED-TTL:P3D
REFRESH-INTERVAL:P3D
CALSCALE:GREGORIAN
BEGIN:VEVENT
DTSTART:20161012T203000Z
DTEND:20161012T220000Z
X-MICROSOFT-CDO-ALLDAYEVENT:FALSE
SUMMARY:Ribbon Cutting and Open House Lighthouse Physical Therapy
DESCRIPTION:20th Anniversary Open House and Ribbon Cutting for new Portsmouth Location.
X-ALT-DESC;FMTTYPE=text/html:20th Anniversary Open House and Ribbon Cutting for new Portsmouth Location.
LOCATION:1 Cate Street Portsmouth\, NH 03801
UID:e.1659.27583
SEQUENCE:3
DTSTAMP:20260421T224957Z
URL:https://business.portsmouthchamber.org/events/details/ribbon-cutting-and-open-house-lighthouse-physical-therapy-27583
END:VEVENT

END:VCALENDAR
