BEGIN:VCALENDAR
VERSION:2.0
PRODID:-//ChamberMaster//Event Calendar 2.0//EN
METHOD:PUBLISH
X-PUBLISHED-TTL:P3D
REFRESH-INTERVAL:P3D
CALSCALE:GREGORIAN
BEGIN:VEVENT
DTSTART:20160305T190000Z
DTEND:20160305T220000Z
X-MICROSOFT-CDO-ALLDAYEVENT:FALSE
SUMMARY:Rollercoaster: A Family Friendly Dance Party
DESCRIPTION:A family friendly dance party\, featuring New Wave and Indie hits from the 80s and 90s\, highlighting great music the whole family can rock out to including Blur\, David Bowie\, the Clash\, the Pixies\, Radiohead\, New Order\, Devo\, and more.\n\n\n\nDoes Raffi make you want to put your hands over your ears and yell\, "La-la-la-la\, I can't hear you!" Well\, we hear you. So how about this: A dance party for parents and their kids featuring music you listened to before the Frozen soundtrack invaded your stereo.  \n\n\n\nSounds good\, huh? You know what makes it even better? We'll have a full bar\, plus healthy snacks for the kiddies.\n\n\n\nWho: Parents of babies through to 10 year olds\n\n\n\nWhat: A dance party that's as fun for you as the kiddos\n\n\n\nWhere: 3S\n\n\n\nWhen: 2 p.m.   5 p.m.  (post nap\, pre dinner\, the perfect excuse for an afternoon cocktail)\n\n\n\nWhy: They're bouncing off the wall\, anyway. Now you can bring 'em here and join them.\n\n\n\nA dedicated nursing area will also be available.
X-ALT-DESC;FMTTYPE=text/html:A family friendly dance party\, featuring New Wave and Indie hits from the 80s and 90s\, highlighting great music the whole family can rock out to including&nbsp\;Blur\, David Bowie\, the Clash\, the Pixies\, Radiohead\, New Order\,&nbsp\;Devo\,&nbsp\;and more.<br />\n<br />\nDoes Raffi make you want to put your hands over your ears and yell\, &ldquo\;La-la-la-la\, I can&rsquo\;t hear you!&rdquo\; Well\,&nbsp\;we&nbsp\;hear you. So how about this: A dance party for parents and their kids featuring music you listened to before the Frozen soundtrack invaded your stereo. &nbsp\;<br />\n<br />\nSounds good\, huh? You know what makes it even better? We&rsquo\;ll have a full bar\, plus healthy snacks for the kiddies.<br />\n<br />\nWho:&nbsp\;Parents of babies through to 10 year olds<br />\n<br />\nWhat: A dance party that&rsquo\;s as fun for you as the kiddos<br />\n<br />\nWhere:&nbsp\;3S<br />\n<br />\nWhen:&nbsp\;2 p.m. &ndash\; 5 p.m.&mdash\; (post nap\, pre dinner\, the perfect excuse for an afternoon cocktail)<br />\n<br />\nWhy:&nbsp\;They&rsquo\;re bouncing off the wall\, anyway. Now you can bring &lsquo\;em here and join them.<br />\n<br />\nA dedicated nursing area will also be available.&nbsp\;
LOCATION:3S Artspace 319 Vaughan Street\, Portsmouth
UID:e.1659.17879
SEQUENCE:3
DTSTAMP:20260420T145237Z
URL:https://business.portsmouthchamber.org/events/details/rollercoaster-a-family-friendly-dance-party-03-05-2016-17879
END:VEVENT

END:VCALENDAR
