BEGIN:VCALENDAR
VERSION:2.0
PRODID:-//ChamberMaster//Event Calendar 2.0//EN
METHOD:PUBLISH
X-PUBLISHED-TTL:P3D
REFRESH-INTERVAL:P3D
CALSCALE:GREGORIAN
BEGIN:VEVENT
DTSTART:20170228T220000Z
DTEND:20170301T030000Z
X-MICROSOFT-CDO-ALLDAYEVENT:FALSE
SUMMARY:Row 34 Celebrates Portsmouth Beer Week: A Night With Three Breweries
DESCRIPTION:Row 34 is an approachable and convivial neighborhood-focused restaurant and oyster bar that continues the team's mission of celebrating New England's rich seafood traditions.To kick off Portsmouth Beer Week\, join the Row 34 team for a night featuring three of their favorite local brewers\, including Garrison City\, Neighborhood Beer Co. and Hidden Cove.\nOfferings will include: \n\n- Hidden Cove: TBA \n\n- Neighborhood Beer Co: Barrel-Aged Decadent Eclipse (a barrel-aged imperial schwarzbier)\, Dapper Detonator (strong\, dark hefeweizen-bock hybrid) \n\n- Garrison City - Box & Whisker (white stout with vanilla & local coffee from Flight Coffee Co.)
X-ALT-DESC;FMTTYPE=text/html:<span style="font-family:arial"><span style="font-size:10.0pt">Row 34</span></span><span style="font-family:arial"><span style="font-size:10.0pt">&nbsp\;is </span></span><span style="font-family:arial"><span style="font-size:10.0pt">an approachable and convivial neighborhood-focused restaurant and oyster bar that continues the team&rsquo\;s mission of celebrating New England&rsquo\;s rich seafood traditions.</span></span>To kick off Portsmouth Beer Week\, join the <a href="http://www.row34nh.com">Row 34</a> team for a night featuring three of their favorite local brewers\, including Garrison City\, Neighborhood Beer Co. and Hidden Cove.\n<p><u>Offerings will include:&nbsp\;</u></p>\n\n<p>- Hidden Cove: TBA&nbsp\;</p>\n\n<p>- Neighborhood Beer Co: Barrel-Aged Decadent Eclipse (a barrel-aged imperial schwarzbier)\, Dapper Detonator (strong\, dark hefeweizen-bock hybrid)&nbsp\;</p>\n\n<p>- Garrison City - Box &amp\; Whisker (white stout with vanilla &amp\; local coffee from Flight Coffee Co.)&nbsp\;</p>\n\n<div>&nbsp\;</div>\n
LOCATION:Row 34 5 Portwalk Place\, Portsmouth
UID:e.1659.29756
SEQUENCE:3
DTSTAMP:20260421T164117Z
URL:https://business.portsmouthchamber.org/events/details/row-34-celebrates-portsmouth-beer-week-a-night-with-three-breweries-29756
END:VEVENT

END:VCALENDAR
