BEGIN:VCALENDAR
VERSION:2.0
PRODID:-//ChamberMaster//Event Calendar 2.0//EN
METHOD:PUBLISH
X-PUBLISHED-TTL:P3D
REFRESH-INTERVAL:P3D
CALSCALE:GREGORIAN
BEGIN:VEVENT
DTSTART:20161120T153000Z
DTEND:20161120T210000Z
X-MICROSOFT-CDO-ALLDAYEVENT:FALSE
SUMMARY:Row 34 invites you to 86 Restaurant Week!
DESCRIPTION:Help Row 34 mark the end of Restaurant Week 2016 with dollar oysters\, Fernet and Chartreuse gummy bears (!) along with other treats from the bar.
X-ALT-DESC;FMTTYPE=text/html:Help Row 34 mark the end of Restaurant Week 2016 with dollar oysters\, Fernet and Chartreuse gummy bears (!) along with other treats from the bar.
LOCATION:Row 34 5 Portwalk Pl\, Portsmouth
UID:e.1659.28143
SEQUENCE:3
DTSTAMP:20260421T211433Z
URL:https://business.portsmouthchamber.org/events/details/row-34-invites-you-to-86-restaurant-week-28143
END:VEVENT

END:VCALENDAR
