BEGIN:VCALENDAR
VERSION:2.0
PRODID:-//ChamberMaster//Event Calendar 2.0//EN
METHOD:PUBLISH
X-PUBLISHED-TTL:P3D
REFRESH-INTERVAL:P3D
CALSCALE:GREGORIAN
BEGIN:VEVENT
DTSTART:20161110T230000Z
DTEND:20161111T030000Z
X-MICROSOFT-CDO-ALLDAYEVENT:FALSE
SUMMARY:Rudi's presents: Barbara London
DESCRIPTION:Enjoy Live Music at Rudi's\, Portsmouth's only Piano Lounge !
X-ALT-DESC;FMTTYPE=text/html:Enjoy Live Music at Rudi&#39\;s\, Portsmouth&#39\;s only Piano Lounge !
LOCATION:Rudi's 20 High Street\, Portsmouth
UID:e.1659.28006
SEQUENCE:3
DTSTAMP:20260421T210418Z
URL:https://business.portsmouthchamber.org/events/details/rudi-s-presents-barbara-london-28006
END:VEVENT

END:VCALENDAR
