BEGIN:VCALENDAR
VERSION:2.0
PRODID:-//ChamberMaster//Event Calendar 2.0//EN
METHOD:PUBLISH
X-PUBLISHED-TTL:P3D
REFRESH-INTERVAL:P3D
CALSCALE:GREGORIAN
BEGIN:VEVENT
DTSTART:20161109T230000Z
DTEND:20161110T030000Z
X-MICROSOFT-CDO-ALLDAYEVENT:FALSE
SUMMARY:Rudi's Presents: Dimitri
DESCRIPTION:Enjoy Live Music at Rudi's\, Portsmouth's only Piano Lounge !
X-ALT-DESC;FMTTYPE=text/html:Enjoy Live Music at Rudi&#39\;s\, Portsmouth&#39\;s only Piano Lounge !
LOCATION:Rudi's 20 High Street\, Portsmouth
UID:e.1659.28005
SEQUENCE:3
DTSTAMP:20260421T210151Z
URL:https://business.portsmouthchamber.org/events/details/rudi-s-presents-dimitri-28005
END:VEVENT

END:VCALENDAR
