BEGIN:VCALENDAR
VERSION:2.0
PRODID:-//ChamberMaster//Event Calendar 2.0//EN
METHOD:PUBLISH
X-PUBLISHED-TTL:P3D
REFRESH-INTERVAL:P3D
CALSCALE:GREGORIAN
BEGIN:VEVENT
DTSTART:20170110T230000Z
DTEND:20170111T000000Z
X-MICROSOFT-CDO-ALLDAYEVENT:FALSE
SUMMARY:Safe Harbor Recovery Center host a Guided Group Meditation
DESCRIPTION:Beginning\, Tuesday January 10th @ 6:00 pm\, weekly\, Christos will lead the 'Guided Group Meditation - Practices for embodiment and emotional well being'. class. Please join us. All are welcome
X-ALT-DESC;FMTTYPE=text/html:Beginning\, Tuesday January 10th @ 6:00 pm\, weekly\, Christos will lead the &#39\;Guided Group Meditation - Practices for embodiment and emotional well being&#39\;. class. Please join us. All are welcome
LOCATION:Safe Harbor Recovery Center 865 Islington Street Portsmouth\, NH 03801
UID:e.1659.28215
SEQUENCE:3
DTSTAMP:20260421T192617Z
URL:https://business.portsmouthchamber.org/events/details/safe-harbor-recovery-center-host-a-guided-group-meditation-28215
END:VEVENT

END:VCALENDAR
