BEGIN:VCALENDAR
VERSION:2.0
PRODID:-//ChamberMaster//Event Calendar 2.0//EN
METHOD:PUBLISH
X-PUBLISHED-TTL:P3D
REFRESH-INTERVAL:P3D
CALSCALE:GREGORIAN
BEGIN:VEVENT
DTSTART:20170114T170000Z
DTEND:20170114T213000Z
X-MICROSOFT-CDO-ALLDAYEVENT:FALSE
SUMMARY:Safe Harbor Recovery Center host a Recovery Speaker Fest
DESCRIPTION:Speaker Fest 12:00pm   3:00pm Intro to Yoga & Meditation for Recovery 3:15pm   4:30pm If you are in recovery\, seeking recovery\, or a family member this is for you. An afternoon of free food\, and an open event of speakers from many of the different fellowships\, different paths\, as well as family members sharing their experience\, strength and hope while joining together to enjoy the food and the power of recovery. Immediately after the speaker fest\, there will be an "intro to yoga & meditation" class. The class will be from 3:15 - 4:30pm. Where comfortable clothes. Pot Luck   We'll provide the pizza. Please bring along a salad or dessert! Free Event   All are welcome! Childcare and kids activities will be provided..
X-ALT-DESC;FMTTYPE=text/html:Speaker Fest 12:00pm &ndash\; 3:00pm Intro to Yoga &amp\; Meditation for Recovery 3:15pm &ndash\; 4:30pm If you are in recovery\, seeking recovery\, or a family member this is for you. An afternoon of free food\, and an open event of speakers from many of the different fellowships\, different paths\, as well as family members sharing their experience\, strength and hope while joining together to enjoy the food and the power of recovery. Immediately after the speaker fest\, there will be an &quot\;intro to yoga &amp\; meditation&quot\; class. The class will be from 3:15 - 4:30pm. Where comfortable clothes. Pot Luck &ndash\; We&rsquo\;ll provide the pizza. Please bring along a salad or dessert! Free Event &ndash\; All are welcome! Childcare and kids activities will be provided..
LOCATION:Safe Harbor Recovery Center 865 Islington Street Portsmouth\, NH 03801
UID:e.1659.28214
SEQUENCE:3
DTSTAMP:20260421T182022Z
URL:https://business.portsmouthchamber.org/events/details/safe-harbor-recovery-center-host-a-recovery-speaker-fest-28214
END:VEVENT

END:VCALENDAR
