BEGIN:VCALENDAR
VERSION:2.0
PRODID:-//ChamberMaster//Event Calendar 2.0//EN
METHOD:PUBLISH
X-PUBLISHED-TTL:P3D
REFRESH-INTERVAL:P3D
CALSCALE:GREGORIAN
BEGIN:VEVENT
DTSTART:20170101T000000Z
DTEND:20170101T005000Z
X-MICROSOFT-CDO-ALLDAYEVENT:FALSE
SUMMARY:Safe Harbor Recovery Center New Years Eve Celebration
DESCRIPTION:Looking for a safe\, FUN\, alternative to the traditional revelry on New Year's Eve? Join the 100% donation Ride with ALL proceeds going directly to Safe Harbor Recovery Center in Portsmouth.  All levels of fitness are welcome.
X-ALT-DESC;FMTTYPE=text/html:Looking for a safe\, FUN\, alternative to the traditional revelry on New Year&#39\;s Eve? Join the 100% donation Ride with ALL proceeds going directly to Safe Harbor Recovery Center in Portsmouth. &nbsp\;All levels of fitness are welcome.&nbsp\;
LOCATION:Cycle Fierce 2454 Lafayette Road\, Portsmouth
UID:e.1659.28210
SEQUENCE:3
DTSTAMP:20260421T193146Z
URL:https://business.portsmouthchamber.org/events/details/safe-harbor-recovery-center-new-years-eve-celebration-28210
END:VEVENT

END:VCALENDAR
