BEGIN:VCALENDAR
VERSION:2.0
PRODID:-//ChamberMaster//Event Calendar 2.0//EN
METHOD:PUBLISH
X-PUBLISHED-TTL:P3D
REFRESH-INTERVAL:P3D
CALSCALE:GREGORIAN
BEGIN:VEVENT
DTSTART:20251213T160000Z
DTEND:20251213T190000Z
X-MICROSOFT-CDO-ALLDAYEVENT:FALSE
SUMMARY:Santa is Coming to Town\, North Hampton
DESCRIPTION:Santa's Coming to North Hampton! Get ready for some holiday magic\, Santa is making a special stop at the St. Mary's Bank North Hampton branch! Bring the whole family and join us for this free\, family-friendly event. Get a complimentary photo with Santa Touch-A-Firetruck with the North Hampton Fire Department from 11 AM   1 PM Enjoy hot cocoa and a seasonal treat Celebrate the season\, make lasting memories\, and share in the joy of the holidays right here in North Hampton. We can't wait to see you there!
X-ALT-DESC;FMTTYPE=text/html:Santa&rsquo\;s Coming to North Hampton! Get ready for some holiday magic\, Santa is making a special stop at the St. Mary&#39\;s Bank North Hampton branch! Bring the whole family and join us for this free\, family-friendly event. Get a complimentary photo with Santa Touch-A-Firetruck with the North Hampton Fire Department from 11 AM &ndash\; 1 PM Enjoy hot cocoa and a seasonal treat Celebrate the season\, make lasting memories\, and share in the joy of the holidays right here in North Hampton. We can&rsquo\;t wait to see you there!
LOCATION:65 Lafayette Rd Ste 101\, North Hampton\, New Hampshire
UID:e.1659.86905
SEQUENCE:3
DTSTAMP:20260423T184131Z
URL:https://business.portsmouthchamber.org/events/details/santa-is-coming-to-town-north-hampton-86905
END:VEVENT

END:VCALENDAR
