BEGIN:VCALENDAR
VERSION:2.0
PRODID:-//ChamberMaster//Event Calendar 2.0//EN
METHOD:PUBLISH
X-PUBLISHED-TTL:P3D
REFRESH-INTERVAL:P3D
CALSCALE:GREGORIAN
BEGIN:VEVENT
DTSTART;VALUE=DATE:20130907
DTEND;VALUE=DATE:20130908
TRANSP:TRANSPARENT
X-MICROSOFT-CDO-ALLDAYEVENT:TRUE
SUMMARY:Sarah's Ride & Bike Show
DESCRIPTION:Sarah's Ride is a memorial Motorcycle ride starting at the Harley Shop of Rochester NH at 9:30am. The Ride will take a scenic route through Maine and back through Portsmouth\, it will even go across the new Memorial Bridge. The ride ends at the Firefighters Bike Show at Seacoast Harley Davidson in North Hampton.  This is one of the Portsmouth Fire Fighters charity fundraisers\, supporting scholarships to Camp Fully Involved in memory of Portsmouth Fire Fighter Sarah Fox.
X-ALT-DESC;FMTTYPE=text/html:Sarah's Ride is a memorial Motorcycle ride starting at the Harley Shop of Rochester NH at 9:30am. The Ride will take a scenic route through Maine and back through Portsmouth\, it will even go across the new Memorial Bridge. The ride ends at the Firefighters Bike Show at Seacoast Harley Davidson in North Hampton.&nbsp\; This is one of the Portsmouth Fire Fighters charity fundraisers\, supporting scholarships to Camp Fully Involved in memory of Portsmouth Fire Fighter Sarah Fox.&nbsp\;
LOCATION:Harley Shop of Rochester & Seacoast Harley Davidson
UID:e.1659.542
SEQUENCE:3
DTSTAMP:20260420T090754Z
URL:https://business.portsmouthchamber.org/events/details/sarah-s-ride-bike-show-09-07-2013-542
END:VEVENT

END:VCALENDAR
