BEGIN:VCALENDAR
VERSION:2.0
PRODID:-//ChamberMaster//Event Calendar 2.0//EN
METHOD:PUBLISH
X-PUBLISHED-TTL:P3D
REFRESH-INTERVAL:P3D
CALSCALE:GREGORIAN
BEGIN:VEVENT
DTSTART;VALUE=DATE:20140816
DTEND;VALUE=DATE:20140817
TRANSP:TRANSPARENT
X-MICROSOFT-CDO-ALLDAYEVENT:TRUE
SUMMARY:Saunders at Rye Harbor 10K Road Race Series
DESCRIPTION:The Saunders at Rye Harbor 10k Road Race is a long standing event that will be run for the 36th time in 2012. Join close to 1000 runners as they take in the beauty of the ocean views on route 1A and the scenic neighborhoods in the town of Rye\, New Hampshire.
X-ALT-DESC;FMTTYPE=text/html:<span style="background-color: rgb(255\, 255\, 255)\;"><span style="font-size: 13px\;"><span style="font-family: arial\,helvetica\,sans-serif\;"><span style="color: rgb(119\, 119\, 119)\;">The Saunders at Rye Harbor 10k Road Race is a long standing event that will be run for the 36th time in 2012. Join close to 1000 runners as they take in the beauty of the ocean views on route 1A and the scenic neighborhoods in the town of Rye\, New Hampshire.</span></span></span></span>
LOCATION:
UID:e.1659.2132
SEQUENCE:3
DTSTAMP:20260419T175732Z
URL:https://business.portsmouthchamber.org/events/details/saunders-at-rye-harbor-10k-road-race-series-08-16-2014-2132
END:VEVENT

END:VCALENDAR
