BEGIN:VCALENDAR
VERSION:2.0
PRODID:-//ChamberMaster//Event Calendar 2.0//EN
METHOD:PUBLISH
X-PUBLISHED-TTL:P3D
REFRESH-INTERVAL:P3D
CALSCALE:GREGORIAN
BEGIN:VEVENT
DTSTART:20141018T220000Z
DTEND:20141019T010000Z
X-MICROSOFT-CDO-ALLDAYEVENT:FALSE
SUMMARY:SAVE THE DATE - Costume Extravaganza to benefit A Safe Place
DESCRIPTION:Great Food\, Dancing\, Auction and Costume Competition A Safe Place - Saving Lives & Creating Futures
X-ALT-DESC;FMTTYPE=text/html:Great Food\, Dancing\, Auction and Costume Competition A Safe Place - Saving Lives &amp\; Creating Futures
LOCATION:1 Liberty Lane\, Hampton NH 03842
UID:e.1659.2194
SEQUENCE:3
DTSTAMP:20260419T144323Z
URL:https://business.portsmouthchamber.org/events/details/save-the-date-costume-extravaganza-to-benefit-a-safe-place-10-18-2014-2194
END:VEVENT

END:VCALENDAR
