BEGIN:VCALENDAR
VERSION:2.0
PRODID:-//ChamberMaster//Event Calendar 2.0//EN
METHOD:PUBLISH
X-PUBLISHED-TTL:P3D
REFRESH-INTERVAL:P3D
CALSCALE:GREGORIAN
BEGIN:VEVENT
DTSTART:20141104T220000Z
DTEND:20141105T030000Z
X-MICROSOFT-CDO-ALLDAYEVENT:FALSE
SUMMARY:SBR Flatbread Pizza Fundraiser
DESCRIPTION:The Community Service Committee for the Seacoast Board of Realtors is holding a fundraiser to support Operation Blessing & Seacoast Family Promise our 2014 Charities of Choice along with SBR's Scholarship fund.
X-ALT-DESC;FMTTYPE=text/html:The Community Service Committee for the Seacoast Board of Realtors is holding a fundraiser to support Operation Blessing &amp\; Seacoast Family Promise our 2014 Charities of Choice along with SBR&#39\;s Scholarship fund.
LOCATION:Flatbread Pizza\, Congress St. Ports.
UID:e.1659.3486
SEQUENCE:3
DTSTAMP:20260419T123927Z
URL:https://business.portsmouthchamber.org/events/details/sbr-flatbread-pizza-fundraiser-11-04-2014-3486
END:VEVENT

END:VCALENDAR
