BEGIN:VCALENDAR
VERSION:2.0
PRODID:-//ChamberMaster//Event Calendar 2.0//EN
METHOD:PUBLISH
X-PUBLISHED-TTL:P3D
REFRESH-INTERVAL:P3D
CALSCALE:GREGORIAN
BEGIN:VEVENT
DTSTART;VALUE=DATE:20141009
DTEND;VALUE=DATE:20141101
TRANSP:TRANSPARENT
X-MICROSOFT-CDO-ALLDAYEVENT:TRUE
SUMMARY:Scarecrows of the Port
DESCRIPTION:Portsmouth celebrates the harvest season with a unique display of scarecrows throughout the city. Enjoy the display and Halloween atmosphere with family and friends.  A "festive contribution to the City's landscape\," Mayor Tom Ferrini. 9 through 31 of October. Free. Map available.
X-ALT-DESC;FMTTYPE=text/html:<span style="font-family: arial\,sans-serif\;">Portsmouth</span><span style="font-family: arial\,sans-serif\;"> celebrates the harvest season with a unique display of scarecrows throughout the city. Enjoy the display and Halloween atmosphere with family and friends. &nbsp\;A &ldquo\;festive contribution to the City&#39\;s landscape\,&rdquo\; Mayor Tom Ferrini. 9 through 31 of October. Free. Map available. </span>
LOCATION:Walk through downtown Portsmouth to enjoy the many scarecrows
UID:e.1659.2252
SEQUENCE:3
DTSTAMP:20260419T144404Z
URL:https://business.portsmouthchamber.org/events/details/scarecrows-of-the-port-10-09-2014-2252
END:VEVENT

END:VCALENDAR
