BEGIN:VCALENDAR
VERSION:2.0
PRODID:-//ChamberMaster//Event Calendar 2.0//EN
METHOD:PUBLISH
X-PUBLISHED-TTL:P3D
REFRESH-INTERVAL:P3D
CALSCALE:GREGORIAN
BEGIN:VEVENT
DTSTART:20161112T150000Z
DTEND:20161112T210000Z
X-MICROSOFT-CDO-ALLDAYEVENT:FALSE
SUMMARY:Seacoast Artisans 17th Annual Holiday Fine Arts & Craft Show
DESCRIPTION:This is Seacoast Artisans 17th Annual Holiday Show! We have relocated to the Great Bay Community College on the Pease Trade Port. Formally located at the Frank Jones Building and Portsmouth High School. There is easy access to this building all handicap accessible. We are ready with over 75 Craftsmen's! They come from VT\, CT\, NY\, RI\, MA\, ME\, to join us. We have something for everyone young and old\, male\, female\, four legged pets! Start your Holiday shopping with this show! Shop\, have lunch\, shop\, rest have a dessert\, shop some more!!! We have teamed with NH Child and Family services. Lunch is Sponsored by Granite Bank all to profit NH Child and Family services! Please join us!
X-ALT-DESC;FMTTYPE=text/html:This is Seacoast Artisans 17th Annual Holiday Show! We have relocated to the Great Bay Community College on the Pease Trade Port. Formally located at the Frank Jones Building and Portsmouth High School. There is easy access to this building all handicap accessible. We are ready with over 75 Craftsmen&#39\;s! They come from VT\, CT\, NY\, RI\, MA\, ME\, to join us. We have something for everyone young and old\, male\, female\, four legged pets! Start your Holiday shopping with this show! Shop\, have lunch\, shop\, rest have a dessert\, shop some more!!! We have teamed with NH Child and Family services. Lunch is Sponsored by Granite Bank all to profit NH Child and Family services! Please join us!
LOCATION:Great Bay Community College 320 Corporate Drive Pease Trade Port\, Portsmouth\, NH
UID:e.1659.27694
SEQUENCE:3
DTSTAMP:20260421T212927Z
URL:https://business.portsmouthchamber.org/events/details/seacoast-artisans-17th-annual-holiday-fine-arts-craft-show-27694
END:VEVENT

END:VCALENDAR
