BEGIN:VCALENDAR
VERSION:2.0
PRODID:-//ChamberMaster//Event Calendar 2.0//EN
METHOD:PUBLISH
X-PUBLISHED-TTL:P3D
REFRESH-INTERVAL:P3D
CALSCALE:GREGORIAN
BEGIN:VEVENT
DTSTART:20130912T200000Z
DTEND:20130912T230000Z
X-MICROSOFT-CDO-ALLDAYEVENT:FALSE
SUMMARY:Seacoast Business Expo
DESCRIPTION:The Seacoast Business Expo\, hosted by the Greater Dover\, Rochester\, Exeter\, Somersworth\, Hampton\, and Portsmouth Chambers\, brings together Seacoast area member businesses for a popular networking event\, which includes exhibitors\, hors d'ouevres\, a cash bar\, and entertainment.
X-ALT-DESC;FMTTYPE=text/html:The Seacoast Business Expo\, hosted by the Greater Dover\, Rochester\, Exeter\, Somersworth\, Hampton\, and Portsmouth Chambers\, brings together Seacoast area member businesses for a popular networking event\, which includes exhibitors\, hors d&#39\;ouevres\, a cash bar\, and entertainment.&nbsp\;
LOCATION:UNH Field House\, Durham NH
UID:e.1659.517
SEQUENCE:3
DTSTAMP:20260420T084849Z
URL:https://business.portsmouthchamber.org/events/details/seacoast-business-expo-09-12-2013-517
END:VEVENT

END:VCALENDAR
