BEGIN:VCALENDAR
VERSION:2.0
PRODID:-//ChamberMaster//Event Calendar 2.0//EN
METHOD:PUBLISH
X-PUBLISHED-TTL:P3D
REFRESH-INTERVAL:P3D
CALSCALE:GREGORIAN
BEGIN:VEVENT
DTSTART:20160322T113000Z
DTEND:20160322T123000Z
X-MICROSOFT-CDO-ALLDAYEVENT:FALSE
SUMMARY:Seacoast Corporate Breakfast
DESCRIPTION:Join the Alzheimer's Association for a networking breakfast on March 22\, 2016 at the Roundabout Diner. There will be a brief presentation about the Alzheimer's Association and the regional events we are hosting in the area.
X-ALT-DESC;FMTTYPE=text/html:Join the Alzheimer&#39\;s Association for a networking breakfast on March 22\, 2016 at the Roundabout Diner. There will be a brief presentation about the Alzheimer&#39\;s Association and the regional events we are hosting in the area.<br />\n&nbsp\;
LOCATION:Roundabout Diner 580 Portsmouth Traffic Circle Portsmouth\, NH 03801
UID:e.1659.17878
SEQUENCE:3
DTSTAMP:20260420T144847Z
URL:https://business.portsmouthchamber.org/events/details/seacoast-corporate-breakfast-03-22-2016-17878
END:VEVENT

END:VCALENDAR
