BEGIN:VCALENDAR
VERSION:2.0
PRODID:-//ChamberMaster//Event Calendar 2.0//EN
METHOD:PUBLISH
X-PUBLISHED-TTL:P3D
REFRESH-INTERVAL:P3D
CALSCALE:GREGORIAN
BEGIN:VEVENT
DTSTART:20260329T120000Z
DTEND:20260329T160000Z
X-MICROSOFT-CDO-ALLDAYEVENT:FALSE
SUMMARY:FOOD: Seacoast Eat Local Pancake Breakfast Fundraiser
DESCRIPTION:Join Seacoast Eat Local for a Pancake Breakfast Fundraiser! We will be serving up pancakes using many ingredients from local farms from 8am-noon on Sunday\, March 29th at the Newington Town Hall. Bring a friend or the family to support local and enjoy a fresh stack of pancakes! Location: Newington Town Hall 205 Nimble Hill Road\, Newington\, NH Date: Sunday\, March 29 Time: 8am-12pm
X-ALT-DESC;FMTTYPE=text/html:Join Seacoast Eat Local for a Pancake Breakfast Fundraiser! We will be serving up pancakes using many ingredients from local farms from 8am-noon on Sunday\, March 29th at the Newington Town Hall. Bring a friend or the family to support local and enjoy a fresh stack of pancakes! Location: Newington Town Hall 205 Nimble Hill Road\, Newington\, NH Date: Sunday\, March 29 Time: 8am-12pm
LOCATION:Newington Town Hall 205 Nimble Hill Road Newington\, NH
UID:e.1659.89232
SEQUENCE:3
DTSTAMP:20260423T052713Z
URL:https://business.portsmouthchamber.org/events/details/seacoast-eat-local-pancake-breakfast-fundraiser-89232
END:VEVENT

END:VCALENDAR
