BEGIN:VCALENDAR
VERSION:2.0
PRODID:-//ChamberMaster//Event Calendar 2.0//EN
METHOD:PUBLISH
X-PUBLISHED-TTL:P3D
REFRESH-INTERVAL:P3D
CALSCALE:GREGORIAN
BEGIN:VEVENT
DTSTART;VALUE=DATE:20141109
DTEND;VALUE=DATE:20141110
TRANSP:TRANSPARENT
X-MICROSOFT-CDO-ALLDAYEVENT:TRUE
SUMMARY:Seacoast Half Marathon
DESCRIPTION:100 percent of the net proceeds of this Seacoast\, NH race will benefit The Dover Children's Home and The Chase Home. Fully detailed map of course is listed on the website.
X-ALT-DESC;FMTTYPE=text/html:100 percent of the net proceeds of this Seacoast\, NH race will benefit The Dover Children&#39\;s Home and The Chase Home. Fully detailed map of course is listed on the website.
LOCATION:
UID:e.1659.2154
SEQUENCE:3
DTSTAMP:20260419T133001Z
URL:https://business.portsmouthchamber.org/events/details/seacoast-half-marathon-11-09-2014-2154
END:VEVENT

END:VCALENDAR
