BEGIN:VCALENDAR
VERSION:2.0
PRODID:-//ChamberMaster//Event Calendar 2.0//EN
METHOD:PUBLISH
X-PUBLISHED-TTL:P3D
REFRESH-INTERVAL:P3D
CALSCALE:GREGORIAN
BEGIN:VEVENT
DTSTART:20130822T213000Z
DTEND:20130822T233000Z
X-MICROSOFT-CDO-ALLDAYEVENT:FALSE
SUMMARY:Seacoast Human Resources Association Member Appreciation and New Member Introduction event.
DESCRIPTION:Please join us Thursday\, August 22nd from 5:30 to 7:30 at Abenaqui Country Club in Rye for our Seacoast Human Resources Association Member Appreciation and New Member Introduction event.\n	\n		Enjoy some food and drinks\, meet\, network and reconnect with SHRA members and guests. Please feel free to bring anyone that you feel would be interested in learning more about SHRA membership!  We will also be raffling off some great items to those that attend!\n	Click here to edit...
X-ALT-DESC;FMTTYPE=text/html:<div style="color: gray\;">\n	<p style="margin: 0in 0in 6pt\;">\n		<span style="color: black\; font-family: &quot\;Tahoma&quot\;\,&quot\;sans-serif&quot\;\;"><font size="3">Please join us Thursday\, August 22nd from 5:30 to 7:30&nbsp\;at&nbsp\;</font></span><span style="color: rgb(0\, 0\, 0)\;"><span style="font-family: &quot\;Tahoma&quot\;\,&quot\;sans-serif&quot\;\;"><font size="3">Abenaqui</font><font size="3"> Country Club</font></span></span><span style="font-family: &quot\;Tahoma&quot\;\,&quot\;sans-serif&quot\;\;"><font size="3"> <span style="color: rgb(0\, 0\, 0)\;">in Rye for our Seacoast Human Resources Association Member Appreciation and New Member Introduction event.</span><o:p></o:p></font></span></p>\n	<p style="margin: 0in 0in 6pt\;">\n		<span style="color: black\; font-family: &quot\;Tahoma&quot\;\,&quot\;sans-serif&quot\;\;"><font size="3">Enjoy some food and&nbsp\;drinks\, meet\, network and reconnect with SHRA members and guests.&nbsp\;Please feel free to bring anyone that you feel would be interested in learning more about SHRA membership!&nbsp\;&nbsp\;We will also be raffling off some great items to those that attend!<o:p></o:p></font></span></p>\n	Click here to edit...</div>\n
LOCATION:
UID:e.1659.529
SEQUENCE:3
DTSTAMP:20260420T100200Z
URL:https://business.portsmouthchamber.org/events/details/seacoast-human-resources-association-member-appreciation-and-new-member-introduction-event-08-22-2013-529
END:VEVENT

END:VCALENDAR
