BEGIN:VCALENDAR
VERSION:2.0
PRODID:-//ChamberMaster//Event Calendar 2.0//EN
METHOD:PUBLISH
X-PUBLISHED-TTL:P3D
REFRESH-INTERVAL:P3D
CALSCALE:GREGORIAN
BEGIN:VEVENT
DTSTART:20130910T113000Z
DTEND:20130910T140000Z
X-MICROSOFT-CDO-ALLDAYEVENT:FALSE
SUMMARY:Seacoast Human Resources Association Monthly Program
DESCRIPTION:New and exciting developments are a hallmark of the social media revolution. The least expected of these developments\, however\, is that social media would be regulated by the National Labor Relations Board (NLRB). Over the past few years\, the NLRB has reviewed more than 130 social media cases\, filed numerous complaints against businesses\, issued several written decisions\, and published three reports summarizing its position. Is the NLRB?s activity justified and helpful\, or an unwarranted hindrance? The courts have not resolved that issue yet. Until then\, employers should beware not to unwittingly stumble into these legal problems.
X-ALT-DESC;FMTTYPE=text/html:New and exciting developments are a hallmark of the social media revolution. The least expected of these developments\, however\, is that social media would be regulated by the National Labor Relations Board (NLRB). Over the past few years\, the NLRB has reviewed more than 130 social media cases\, filed numerous complaints against businesses\, issued several written decisions\, and published three reports summarizing its position. Is the NLRB?s activity justified and helpful\, or an unwarranted hindrance? The courts have not resolved that issue yet. Until then\, employers should beware not to unwittingly stumble into these legal problems.
LOCATION:Portsmouth Country Club
UID:e.1659.577
SEQUENCE:3
DTSTAMP:20260420T084119Z
URL:https://business.portsmouthchamber.org/events/details/seacoast-human-resources-association-monthly-program-09-10-2013-577
END:VEVENT

END:VCALENDAR
