BEGIN:VCALENDAR
VERSION:2.0
PRODID:-//ChamberMaster//Event Calendar 2.0//EN
METHOD:PUBLISH
X-PUBLISHED-TTL:P3D
REFRESH-INTERVAL:P3D
CALSCALE:GREGORIAN
BEGIN:VEVENT
DTSTART:20170217T010000Z
DTEND:20170217T030000Z
X-MICROSOFT-CDO-ALLDAYEVENT:FALSE
SUMMARY:Seacoast Repertory presents: Driving Miss Daisy
DESCRIPTION:A moving Pulitzer-Prize winning comedy\, Driving Miss Daisy\, is the story of the relationship between a strong-willed\, well-to-do Jewish woman and her black chauffeur over 25 years in post-war Atlanta. The relationship begins rocky\, but blossoms as the two become each other?s closest friends and confidantes.\n\n\n\nNo objectionable content\, suitable for all ages Starring Odell Curetan and Katie Miller
X-ALT-DESC;FMTTYPE=text/html:A moving Pulitzer-Prize winning comedy\, Driving Miss Daisy\, is the story of the relationship between a strong-willed\, well-to-do Jewish woman and her black chauffeur over 25 years in post-war Atlanta. The relationship begins rocky\, but blossoms as the two become each other?s closest friends and confidantes.<br>\n<br>\nNo objectionable content\, suitable for all ages Starring Odell Curetan and Katie Miller&nbsp\;
LOCATION:Seacoast Repertory 125 Bow St Portsmouth\, NH
UID:e.1659.29571
SEQUENCE:3
DTSTAMP:20260421T181515Z
URL:https://business.portsmouthchamber.org/events/details/seacoast-repertory-presents-driving-miss-daisy-02-16-2017-29571
END:VEVENT

END:VCALENDAR
