BEGIN:VCALENDAR
VERSION:2.0
PRODID:-//ChamberMaster//Event Calendar 2.0//EN
METHOD:PUBLISH
X-PUBLISHED-TTL:P3D
REFRESH-INTERVAL:P3D
CALSCALE:GREGORIAN
BEGIN:VEVENT
DTSTART:20161216T010000Z
DTEND:20161216T030000Z
X-MICROSOFT-CDO-ALLDAYEVENT:FALSE
SUMMARY:Seacoast Repertory Theatre Presents: A Wonderful Life
DESCRIPTION:A film that became a beloved Holiday tradition is now a musical poised to become a favorite of Seacoast theatre-goers. Join Seacoast Repertory Theatre in historic downtown Portsmouth for our holiday production of A Wonderful Life: A Musical.\n\n\n\nBased on Frank Capra's classic film starring Jimmy Stewart and Donna Reed\, A Wonderful Life: A Musical brings the Christmas classic to the Seacoast's most acclaimed stage for an afternoon or evening of theatre the whole family will enjoy.\n\n\n\nThe story of George Bailey and his wonderful life in Bedford Falls remains a timeless chronicle of dreams\, despair\, and the overwhelming power of love. An uplifting chronicle of the extraordinary lives of ordinary folk\, A Wonderful Life: A Musical exhilarates the mind and heart as it celebrates the innate goodness in us all.
X-ALT-DESC;FMTTYPE=text/html:A film that became a beloved Holiday tradition is now a musical poised to become a favorite of Seacoast theatre-goers. Join Seacoast Repertory Theatre in historic downtown Portsmouth for our holiday production of A Wonderful Life: A Musical.<br />\n<br />\nBased on Frank Capra&rsquo\;s classic film starring Jimmy Stewart and Donna Reed\, A Wonderful Life: A Musical brings the Christmas classic to the Seacoast&rsquo\;s most acclaimed stage for an afternoon or evening of theatre the whole family will enjoy.<br />\n<br />\nThe story of George Bailey and his wonderful life in Bedford Falls remains a timeless chronicle of dreams\, despair\, and the overwhelming power of love. An uplifting chronicle of the extraordinary lives of ordinary folk\, A Wonderful Life: A Musical exhilarates the mind and heart as it celebrates the innate goodness in us all.
LOCATION:The Seacoast Repertory 125 Bow St.\, Portsmouth
UID:e.1659.27988
SEQUENCE:3
DTSTAMP:20260421T212442Z
URL:https://business.portsmouthchamber.org/events/details/seacoast-repertory-theatre-presents-a-wonderful-life-12-15-2016-27988
END:VEVENT

END:VCALENDAR
