BEGIN:VCALENDAR
VERSION:2.0
PRODID:-//ChamberMaster//Event Calendar 2.0//EN
METHOD:PUBLISH
X-PUBLISHED-TTL:P3D
REFRESH-INTERVAL:P3D
CALSCALE:GREGORIAN
BEGIN:VEVENT
DTSTART:20170527T000000Z
DTEND:20170526T180000Z
X-MICROSOFT-CDO-ALLDAYEVENT:FALSE
SUMMARY:Seacoast Repertory Theatre presents: Rock of Ages
DESCRIPTION:It's the tail end of the big\, bad 1980s in Hollywood\, and the party has been raging hard. Aqua Net\, Lycra\, lace and liquor flow freely at one of the Sunset Strips last legendary venues\, a place where sex machine Stacee Jaxx takes the stage and scantily clad groupies line up to turn their fantasies into reality. Amidst the madness\, aspiring rock star (and resident toilet cleaner) Drew longs to take the stage as the next big thing (and longs for small-town girl Sherri\, fresh off the bus from Kansas with stars in her eyes). But the rock and roll fairy-tale is about to end when German developers sweep into town with plans to turn the fabled Strip into just another capitalist strip mall. Can Drew\, Sherri\, and the gang save the strip?and themselves?before it's too late? Only the music of hit bands Styx\, Journey\, Bon Jovi\, Whitesnake and more hold the answer. Directed by The Mad Men of Oopsy Daisy\, Inc. Starring John Furey Alyssa Dumas Sam St. Jean Joel Crowley Ben Hart Scottie McLaughlin Dan Slavin Chris Bradley Michelle Faria Erica Skoglund Kevin Mahaney Shawday Graves Caroline Portu Amanda Dane Ben Bagley Jason Faria Andrew Burton Kelley Sponsored by: Charles Schwab The Thoresen Werner Fund of the NH Charitable Foundation The Rosa Restaurant Blueline Associates
X-ALT-DESC;FMTTYPE=text/html:It&#39\;s the tail end of the big\, bad 1980s in Hollywood\, and the party has been raging hard. Aqua Net\, Lycra\, lace and liquor flow freely at one of the Sunset Strips last legendary venues\, a place where sex machine Stacee Jaxx takes the stage and scantily clad groupies line up to turn their fantasies into reality. Amidst the madness\, aspiring rock star (and resident toilet cleaner) Drew longs to take the stage as the next big thing (and longs for small-town girl Sherri\, fresh off the bus from Kansas with stars in her eyes). But the rock and roll fairy-tale is about to end when German developers sweep into town with plans to turn the fabled Strip into just another capitalist strip mall. Can Drew\, Sherri\, and the gang save the strip?and themselves?before it&#39\;s too late? Only the music of hit bands Styx\, Journey\, Bon Jovi\, Whitesnake and more hold the answer. Directed by The Mad Men of Oopsy Daisy\, Inc. Starring John Furey Alyssa Dumas Sam St. Jean Joel Crowley Ben Hart Scottie McLaughlin Dan Slavin Chris Bradley Michelle Faria Erica Skoglund Kevin Mahaney Shawday Graves Caroline Portu Amanda Dane Ben Bagley Jason Faria Andrew Burton Kelley Sponsored by: Charles Schwab The Thoresen Werner Fund of the NH Charitable Foundation The Rosa Restaurant Blueline Associates
LOCATION:Seacoast Repertory Theatre 125 Bow St\, Portsmouth
UID:e.1659.31598
SEQUENCE:3
DTSTAMP:20260421T132351Z
URL:https://business.portsmouthchamber.org/events/details/seacoast-repertory-theatre-presents-rock-of-ages-05-26-2017-31598
END:VEVENT

END:VCALENDAR
