BEGIN:VCALENDAR
VERSION:2.0
PRODID:-//ChamberMaster//Event Calendar 2.0//EN
METHOD:PUBLISH
X-PUBLISHED-TTL:P3D
REFRESH-INTERVAL:P3D
CALSCALE:GREGORIAN
BEGIN:VEVENT
DTSTART:20161113T150000Z
DTEND:20161113T170000Z
X-MICROSOFT-CDO-ALLDAYEVENT:FALSE
SUMMARY:Seacoast Repertory Theatre Presents: Run Turkey Run
DESCRIPTION:Run\, Turkey\, Run! A Thanksgiving Musical - Based on the children's book by Diane Mayr\, this Thanksgiving musical is sure to show another side of the holiday. What side you ask? The Turkey's. You've heard of a goose\, but not a wild turkey chase! It is the day before Thanksgiving\, which is a terrible day when turkeys stop living\, so turkey may not be giving thanks unless he can think of a way to escape. Clompity-clomp here comes the farmer and the Turkey is off on his adventure. Along the way he meets delightful friends that show him what Thanksgiving is really all about.
X-ALT-DESC;FMTTYPE=text/html:Run\, Turkey\, Run! A Thanksgiving Musical - Based on the children&rsquo\;s book by Diane Mayr\, this Thanksgiving musical is sure to show another side of the holiday. What side you ask? The Turkey&rsquo\;s. You&rsquo\;ve heard of a goose\, but not a wild turkey chase! It is the day before Thanksgiving\, which is a terrible day when turkeys stop living\, so turkey may not be giving thanks unless he can think of a way to escape. Clompity-clomp here comes the farmer and the Turkey is off on his adventure. Along the way he meets delightful friends that show him what Thanksgiving is really all about.
LOCATION:Seacoast Repertory Theatre 125 Bow St\, Portsmouth
UID:e.1659.27975
SEQUENCE:3
DTSTAMP:20260421T225344Z
URL:https://business.portsmouthchamber.org/events/details/seacoast-repertory-theatre-presents-run-turkey-run-11-13-2016-27975
END:VEVENT

END:VCALENDAR
