BEGIN:VCALENDAR
VERSION:2.0
PRODID:-//ChamberMaster//Event Calendar 2.0//EN
METHOD:PUBLISH
X-PUBLISHED-TTL:P3D
REFRESH-INTERVAL:P3D
CALSCALE:GREGORIAN
BEGIN:VEVENT
DTSTART:20161209T000000Z
DTEND:20161209T020000Z
X-MICROSOFT-CDO-ALLDAYEVENT:FALSE
SUMMARY:Seacoast Science Center presents An evening with Sy Montgomery: The Soul of an Octopus
DESCRIPTION:Join Sy Montgomery\, author of The Soul of an Octopus\, for a presentation and discussion about her intimate encounters with Athena the octopus. Sy will share her insight into the emotional and physical world of the octopus a surprisingly complex\, intelligent\, and spirited creature and the remarkable connection it made with her. Purchase your copy of The Soul of an Octopus for $16.99 when you register. A limited number of books will be available for purchase and signing during the event. A limited number of her children's books\, The Octopus Scientist and The Great White Shark Scientist will also be available for purchase and signing during the event. Presented by the Seacoast Science Center and Rye Public Library\, held at the Seacoast Science Center.
X-ALT-DESC;FMTTYPE=text/html:Join Sy Montgomery\, author of The Soul of an Octopus\, for a presentation and discussion about her intimate encounters with Athena the octopus. Sy will share her insight into the emotional and physical world of the octopus&mdash\;a surprisingly complex\, intelligent\, and spirited creature&mdash\;and the remarkable connection it made with her. Purchase your copy of The Soul of an Octopus for $16.99 when you register. A limited number of books will be available for purchase and signing during the event. A limited number of her children&rsquo\;s books\, The Octopus Scientist and The Great White Shark Scientist will also be available for purchase and signing during the event. Presented by the Seacoast Science Center and Rye Public Library\, held at the Seacoast Science Center.
LOCATION:Seacoast Science Center 570 Ocean Blvd\, Rye
UID:e.1659.27932
SEQUENCE:3
DTSTAMP:20260421T194516Z
URL:https://business.portsmouthchamber.org/events/details/seacoast-science-center-presents-an-evening-with-sy-montgomery-the-soul-of-an-octopus-27932
END:VEVENT

END:VCALENDAR
